BEGIN:VCALENDAR
VERSION:2.0
PRODID:-//wp-events-plugin.com//7.2.3.1//EN
TZID:America/Denver
X-WR-TIMEZONE:America/Denver
BEGIN:VEVENT
UID:65-17959@philosophy.colostate.edu
DTSTART;TZID=America/Denver:20231115T120000
DTEND;TZID=America/Denver:20231115T130000
DTSTAMP:20230828T220455Z
URL:https://philosophy.colostate.edu/events/research-interests-ken-shockle
 y/
SUMMARY:Research Interests: Ken Shockley
DESCRIPTION:Throughout the semester\, department faculty will meet with gra
 duate students to share their research interests and projects. These infor
 mal sessions are meant to acquaint graduate students with the breadth and 
 depth of philosophical work in the department and to inform their choices 
 of faculty advisors and mentors.
LOCATION:Eddy Hall\, rm 6\, CSU Department of Philosophy \, Fort Collins\, 
 CO\, United States
GEO:40.572133;-105.084106
X-APPLE-STRUCTURED-LOCATION;VALUE=URI;X-ADDRESS=CSU Department of Philosoph
 y \, Fort Collins\, CO\, United States;X-APPLE-RADIUS=100;X-TITLE=Eddy Hal
 l\, rm 6:geo:40.572133,-105.084106
END:VEVENT
BEGIN:VTIMEZONE
TZID:America/Denver
X-LIC-LOCATION:America/Denver
BEGIN:STANDARD
DTSTART:20231105T010000
TZOFFSETFROM:-0600
TZOFFSETTO:-0700
TZNAME:MST
END:STANDARD
END:VTIMEZONE
END:VCALENDAR