BEGIN:VCALENDAR
VERSION:2.0
PRODID:-//wp-events-plugin.com//7.2.3.1//EN
TZID:America/Denver
X-WR-TIMEZONE:America/Denver
BEGIN:VEVENT
UID:65-17345@philosophy.colostate.edu
DTSTART;TZID=America/Denver:20221021T160000
DTEND;TZID=America/Denver:20221118T170000
DTSTAMP:20221010T164526Z
URL:https://philosophy.colostate.edu/event-recurring/philosophy-club/
SUMMARY:Philosophy Club
DESCRIPTION:All students are invited to join Philosophy Club.  Meeting wee
 kly\, philosophy students join classmates from across campus to engage in 
 deep discussion on topics picked by the group\, ranging from the nature of
  time and the dimensions of human consciousness to the ethical challenges 
 of global business and sustainability.  Meetings take place in Eddy 6 eve
 ry Friday at 4.\n\nQuestions can be directed to this year's club president
 \, Matt Carter (matthew.carter@colostate.edu)\, or faculty advisor\, Paul 
 DiRado.\n\n
LOCATION:Eddy Hall\, rm 6\, CSU Department of Philosophy \, Fort Collins\, 
 CO\, United States
GEO:40.572133;-105.084106
X-APPLE-STRUCTURED-LOCATION;VALUE=URI;X-ADDRESS=CSU Department of Philosoph
 y \, Fort Collins\, CO\, United States;X-APPLE-RADIUS=100;X-TITLE=Eddy Hal
 l\, rm 6:geo:40.572133,-105.084106
END:VEVENT
BEGIN:VTIMEZONE
TZID:America/Denver
X-LIC-LOCATION:America/Denver
BEGIN:DAYLIGHT
DTSTART:20220313T030000
TZOFFSETFROM:-0700
TZOFFSETTO:-0600
TZNAME:MDT
END:DAYLIGHT
BEGIN:STANDARD
DTSTART:20221106T010000
TZOFFSETFROM:-0600
TZOFFSETTO:-0700
TZNAME:MST
END:STANDARD
END:VTIMEZONE
END:VCALENDAR