BEGIN:VCALENDAR
VERSION:2.0
PRODID:-//wp-events-plugin.com//7.2.3.1//EN
TZID:America/Denver
X-WR-TIMEZONE:America/Denver
BEGIN:VEVENT
UID:65-17444@philosophy.colostate.edu
DTSTART;TZID=America/Denver:20221208T170000
DTEND;TZID=America/Denver:20221208T180000
DTSTAMP:20221129T194332Z
URL:https://philosophy.colostate.edu/events/map-study-hang/
SUMMARY:MAP Study Hang
DESCRIPTION:Minorities and Philosophy (MAP) is hosting an end-of-semester s
 tudy session/final paper writing support group in Eddy 6.  MAP will provi
 de food and it'll be a space to hang out or work on final papers and ideas
 .\n\nAll students interested in inclusive philosophy are welcome to attend
 .\n\nFor more info\, contact: csu_map@outlook.com
LOCATION:Eddy Hall\, rm 6\, CSU Department of Philosophy \, Fort Collins\, 
 CO\, United States
GEO:40.572133;-105.084106
X-APPLE-STRUCTURED-LOCATION;VALUE=URI;X-ADDRESS=CSU Department of Philosoph
 y \, Fort Collins\, CO\, United States;X-APPLE-RADIUS=100;X-TITLE=Eddy Hal
 l\, rm 6:geo:40.572133,-105.084106
END:VEVENT
BEGIN:VTIMEZONE
TZID:America/Denver
X-LIC-LOCATION:America/Denver
BEGIN:STANDARD
DTSTART:20221106T010000
TZOFFSETFROM:-0600
TZOFFSETTO:-0700
TZNAME:MST
END:STANDARD
END:VTIMEZONE
END:VCALENDAR