BEGIN:VCALENDAR
VERSION:2.0
PRODID:-//wp-events-plugin.com//7.2.3.1//EN
TZID:America/Denver
X-WR-TIMEZONE:America/Denver
BEGIN:VEVENT
UID:65-17326@philosophy.colostate.edu
DTSTART;TZID=America/Denver:20221013T170000
DTEND;TZID=America/Denver:20221013T180000
DTSTAMP:20221005T232226Z
URL:https://philosophy.colostate.edu/events/map-student-meeting/
SUMMARY:MAP student meeting
DESCRIPTION:Minorities and Philosophy (MAP) meeting to discuss minority top
 ics in philosophy and resources to support further minority engagement.  
 All students interested in inclusive philosophy are welcome!\n\nMAP contac
 t: Minh-Tu Van\; csu_map@outlook.com\n\n\n
LOCATION:Eddy Hall\, rm 6\, CSU Department of Philosophy \, Fort Collins\, 
 CO\, United States
GEO:40.572133;-105.084106
X-APPLE-STRUCTURED-LOCATION;VALUE=URI;X-ADDRESS=CSU Department of Philosoph
 y \, Fort Collins\, CO\, United States;X-APPLE-RADIUS=100;X-TITLE=Eddy Hal
 l\, rm 6:geo:40.572133,-105.084106
END:VEVENT
BEGIN:VTIMEZONE
TZID:America/Denver
X-LIC-LOCATION:America/Denver
BEGIN:DAYLIGHT
DTSTART:20220313T030000
TZOFFSETFROM:-0700
TZOFFSETTO:-0600
TZNAME:MDT
END:DAYLIGHT
END:VTIMEZONE
END:VCALENDAR