BEGIN:VCALENDAR
VERSION:2.0
PRODID:-//wp-events-plugin.com//7.2.3.1//EN
TZID:America/Denver
X-WR-TIMEZONE:America/Denver
BEGIN:VEVENT
UID:65-17589@philosophy.colostate.edu
DTSTART;TZID=America/Denver:20230208T093000
DTEND;TZID=America/Denver:20230208T103000
DTSTAMP:20230206T152942Z
URL:https://philosophy.colostate.edu/events/map-student-meeting-3/
SUMMARY:MAP student meeting
DESCRIPTION:Minorities and Philosophy (MAP) meeting to discuss minority top
 ics in philosophy and resources to support further minority engagement.  
 All students interested in inclusive philosophy are welcome!\n\nMAP contac
 t: Minh-Tu Van\; csu_map@outlook.com
LOCATION:Room 6\, Eddy Hall\, CSU Department of Philosophy\, Fort Collins\,
  United States
GEO:40.57714;-105.087219
X-APPLE-STRUCTURED-LOCATION;VALUE=URI;X-ADDRESS=CSU Department of Philosoph
 y\, Fort Collins\, United States;X-APPLE-RADIUS=100;X-TITLE=Room 6\, Eddy 
 Hall:geo:40.57714,-105.087219
END:VEVENT
BEGIN:VTIMEZONE
TZID:America/Denver
X-LIC-LOCATION:America/Denver
BEGIN:STANDARD
DTSTART:20221106T010000
TZOFFSETFROM:-0600
TZOFFSETTO:-0700
TZNAME:MST
END:STANDARD
END:VTIMEZONE
END:VCALENDAR