BEGIN:VCALENDAR
VERSION:2.0
PRODID:-//wp-events-plugin.com//7.2.3.1//EN
TZID:America/Denver
X-WR-TIMEZONE:America/Denver
BEGIN:VEVENT
UID:65-17337@philosophy.colostate.edu
DTSTART;TZID=America/Denver:20221109T120000
DTEND;TZID=America/Denver:20221109T130000
DTSTAMP:20221005T234901Z
URL:https://philosophy.colostate.edu/events/faculty-sharing-session-rice/
SUMMARY:Faculty Sharing Session: Rice
DESCRIPTION:\n\n&nbsp\;\n\nThroughout the semester\, we will have a range o
 f sharing sessions by philosophy faculty members. The aim of these session
 s is to provide graduate students with more information about our faculty 
 and their interests and help them with their choice of advisors and mentor
 s. The format will vary by faculty\, but will include both presentation of
  material and engagement and discussion with graduate students.\n\nThis we
 ek’s faculty member is Collin Rice.
LOCATION:Eddy Hall\, rm 6\, CSU Department of Philosophy \, Fort Collins\, 
 CO\, United States
GEO:40.572133;-105.084106
X-APPLE-STRUCTURED-LOCATION;VALUE=URI;X-ADDRESS=CSU Department of Philosoph
 y \, Fort Collins\, CO\, United States;X-APPLE-RADIUS=100;X-TITLE=Eddy Hal
 l\, rm 6:geo:40.572133,-105.084106
END:VEVENT
BEGIN:VTIMEZONE
TZID:America/Denver
X-LIC-LOCATION:America/Denver
BEGIN:STANDARD
DTSTART:20221106T010000
TZOFFSETFROM:-0600
TZOFFSETTO:-0700
TZNAME:MST
END:STANDARD
END:VTIMEZONE
END:VCALENDAR