BEGIN:VCALENDAR
VERSION:2.0
PRODID:-//wp-events-plugin.com//7.2.3.1//EN
TZID:America/Denver
X-WR-TIMEZONE:America/Denver
BEGIN:VEVENT
UID:65-17328@philosophy.colostate.edu
DTSTART;TZID=America/Denver:20221019T120000
DTEND;TZID=America/Denver:20221019T130000
DTSTAMP:20221005T230932Z
URL:https://philosophy.colostate.edu/events/faculty-sharing-session-macken
 zie/
SUMMARY:Faculty Sharing Session: MacKenzie
DESCRIPTION:\n\nThroughout the semester\, we will have a range of sharing s
 essions by philosophy faculty members. The aim of these sessions is to pro
 vide graduate students with more information about our faculty and their i
 nterests and help them with their choice of advisors and mentors. The form
 at will vary by faculty\, but will include both presentation of material a
 nd engagement and discussion with graduate students.\n\nThis week's facult
 y member is Matt MacKenzie.\n\n&nbsp\;
LOCATION:Eddy Hall\, rm 6\, CSU Department of Philosophy \, Fort Collins\, 
 CO\, United States
GEO:40.572133;-105.084106
X-APPLE-STRUCTURED-LOCATION;VALUE=URI;X-ADDRESS=CSU Department of Philosoph
 y \, Fort Collins\, CO\, United States;X-APPLE-RADIUS=100;X-TITLE=Eddy Hal
 l\, rm 6:geo:40.572133,-105.084106
END:VEVENT
BEGIN:VTIMEZONE
TZID:America/Denver
X-LIC-LOCATION:America/Denver
BEGIN:DAYLIGHT
DTSTART:20220313T030000
TZOFFSETFROM:-0700
TZOFFSETTO:-0600
TZNAME:MDT
END:DAYLIGHT
END:VTIMEZONE
END:VCALENDAR