BEGIN:VCALENDAR
VERSION:2.0
PRODID:-//wp-events-plugin.com//7.2.3.1//EN
TZID:America/Denver
X-WR-TIMEZONE:America/Denver
BEGIN:VEVENT
UID:65-17961@philosophy.colostate.edu
DTSTART;TZID=America/Denver:20231108T120000
DTEND;TZID=America/Denver:20231108T130000
DTSTAMP:20230828T223743Z
URL:https://philosophy.colostate.edu/events/faculty-roundtable-phd-program
 -applications/
SUMMARY:Faculty Roundtable: PhD Program Applications
DESCRIPTION:Paul DiRado\, Katie McShane\, and Collin Rice will share their 
 experiences and advice on applying to PhD programs.
LOCATION:Eddy Hall\, rm 6\, CSU Department of Philosophy \, Fort Collins\, 
 CO\, United States
GEO:40.572133;-105.084106
X-APPLE-STRUCTURED-LOCATION;VALUE=URI;X-ADDRESS=CSU Department of Philosoph
 y \, Fort Collins\, CO\, United States;X-APPLE-RADIUS=100;X-TITLE=Eddy Hal
 l\, rm 6:geo:40.572133,-105.084106
END:VEVENT
BEGIN:VTIMEZONE
TZID:America/Denver
X-LIC-LOCATION:America/Denver
BEGIN:STANDARD
DTSTART:20231105T010000
TZOFFSETFROM:-0600
TZOFFSETTO:-0700
TZNAME:MST
END:STANDARD
END:VTIMEZONE
END:VCALENDAR