BEGIN:VCALENDAR
VERSION:2.0
PRODID:-//wp-events-plugin.com//7.2.3.1//EN
TZID:America/Denver
X-WR-TIMEZONE:America/Denver
BEGIN:VEVENT
UID:65-17319@philosophy.colostate.edu
DTSTART;TZID=America/Denver:20221201T160000
DTEND;TZID=America/Denver:20221201T173000
DTSTAMP:20221107T174917Z
URL:https://philosophy.colostate.edu/events/bodaken-philosophy-symposium/
SUMMARY:Bodaken Philosophy Symposium with Visiting Scholar Ásta
DESCRIPTION:Please join us for this year's Bodaken Philosophy Symposium on 
 December 1 at 4 pm in the Canvas Stadium Lecture Hall\, room 1205.  This 
 year's guest lecturer is Ásta\, an Icelandic philosopher and Professor of
  Philosophy at Duke University.
CATEGORIES:College of Liberal Arts Featured Events
LOCATION:Canvas Stadium\, Pitkin St.\, Fort Collins\, CO\, 80521\, United S
 tates
GEO:40.5708954;-105.086432
X-APPLE-STRUCTURED-LOCATION;VALUE=URI;X-ADDRESS=Pitkin St.\, Fort Collins\,
  CO\, 80521\, United States;X-APPLE-RADIUS=100;X-TITLE=Canvas Stadium:geo:
 40.5708954,-105.086432
END:VEVENT
BEGIN:VTIMEZONE
TZID:America/Denver
X-LIC-LOCATION:America/Denver
BEGIN:STANDARD
DTSTART:20221106T010000
TZOFFSETFROM:-0600
TZOFFSETTO:-0700
TZNAME:MST
END:STANDARD
END:VTIMEZONE
END:VCALENDAR